BEGIN:VCALENDAR
VERSION:2.0
PRODID:-//jEvents 2.0 for Joomla//EN
CALSCALE:GREGORIAN
METHOD:PUBLISH
BEGIN:VEVENT
UID:fdc221ea43f652a1f71d37f89212de61
CATEGORIES:Rental
CREATED:20260309T151917
SUMMARY:Rental - Encan International
DESCRIPTION:Time: 8:00AM to 5:00PM\n\nSetup: 4-6 tables, 12-15 chairs, &amp; 1-2 garbag
 e bins.\n
X-ALT-DESC;FMTTYPE=text/html:<p><strong>Time:</strong>&nbsp;8:00AM to 5:00PM<br /><br /><strong>Setup:</
 strong>&nbsp;4-6 tables, 12-15 chairs, &amp; 1-2 garbage bins.</p>
DTSTAMP:20260422T141817
DTSTART:20260427T110000
DTEND:20260427T200000
SEQUENCE:0
TRANSP:OPAQUE
END:VEVENT
END:VCALENDAR